Package: ggtreeDendro Version: 1.11.0 Command: /home/biocbuild/bbs-3.22-bioc/R/bin/R CMD build --keep-empty-dirs --no-resave-data --md5 ggtreeDendro StartedAt: 2025-07-04 17:22:52 -0400 (Fri, 04 Jul 2025) EndedAt: 2025-07-04 17:23:05 -0400 (Fri, 04 Jul 2025) EllapsedTime: 13.0 seconds RetCode: 0 Status: OK PackageFile: ggtreeDendro_1.11.0.tar.gz PackageFileSize: 429.8 KiB