Package: ggtreeDendro Version: 1.11.0 Command: /Library/Frameworks/R.framework/Resources/bin/R CMD build --keep-empty-dirs --no-resave-data ggtreeDendro StartedAt: 2025-07-20 17:07:42 -0400 (Sun, 20 Jul 2025) EndedAt: 2025-07-20 17:08:00 -0400 (Sun, 20 Jul 2025) EllapsedTime: 18.0 seconds RetCode: 0 Status: OK PackageFile: ggtreeDendro_1.11.0.tar.gz PackageFileSize: 408.1 KiB