Package: ggtreeDendro Version: 1.11.0 Command: /Library/Frameworks/R.framework/Resources/bin/R CMD INSTALL ggtreeDendro StartedAt: 2025-07-21 15:05:51 -0400 (Mon, 21 Jul 2025) EndedAt: 2025-07-21 15:05:56 -0400 (Mon, 21 Jul 2025) EllapsedTime: 4.8 seconds RetCode: 0 Status: OK