Package: ggtreeDendro Version: 1.11.0 Command: /Library/Frameworks/R.framework/Resources/bin/R CMD check --install=check:ggtreeDendro.install-out.txt --library=/Library/Frameworks/R.framework/Resources/library --no-vignettes --timings ggtreeDendro_1.11.0.tar.gz StartedAt: 2025-07-21 19:31:39 -0400 (Mon, 21 Jul 2025) EndedAt: 2025-07-21 19:31:59 -0400 (Mon, 21 Jul 2025) EllapsedTime: 20.3 seconds RetCode: 0 Status: WARNINGS CheckDir: ggtreeDendro.Rcheck Warnings: 1