Package: ggtreeDendro Version: 1.11.0 Command: /Library/Frameworks/R.framework/Resources/bin/R CMD build --keep-empty-dirs --no-resave-data ggtreeDendro StartedAt: 2025-07-21 16:27:13 -0400 (Mon, 21 Jul 2025) EndedAt: 2025-07-21 16:27:19 -0400 (Mon, 21 Jul 2025) EllapsedTime: 6.1 seconds RetCode: 0 Status: OK PackageFile: ggtreeDendro_1.11.0.tar.gz PackageFileSize: 407.8 KiB