Package: ggtreeDendro Version: 1.11.0 Command: rm -rf ggtreeDendro.buildbin-libdir && mkdir ggtreeDendro.buildbin-libdir && /Users/biocbuild/BBS/utils/build-universal.sh ggtreeDendro_1.11.0.tar.gz /Library/Frameworks/R.framework/Resources/bin/R ggtreeDendro.buildbin-libdir StartedAt: 2025-07-21 22:27:21 -0400 (Mon, 21 Jul 2025) EndedAt: 2025-07-21 22:27:24 -0400 (Mon, 21 Jul 2025) EllapsedTime: 3.1 seconds RetCode: 0 Status: OK PackageFile: ggtreeDendro_1.11.0.tgz PackageFileSize: 432.7 KiB