Package: ggspavis Version: 1.15.7 Command: F:\biocbuild\bbs-3.22-bioc\R\bin\R.exe CMD check --no-multiarch --install=check:ggspavis.install-out.txt --library=F:\biocbuild\bbs-3.22-bioc\R\library --no-vignettes --timings ggspavis_1.15.7.tar.gz StartedAt: 2025-07-02 02:30:18 -0400 (Wed, 02 Jul 2025) EndedAt: 2025-07-02 02:35:21 -0400 (Wed, 02 Jul 2025) EllapsedTime: 303.1 seconds RetCode: 0 Status: OK CheckDir: ggspavis.Rcheck Warnings: 0