Package: ggspavis Version: 1.15.7 Command: /Library/Frameworks/R.framework/Resources/bin/R CMD INSTALL ggspavis StartedAt: 2025-07-01 15:37:58 -0400 (Tue, 01 Jul 2025) EndedAt: 2025-07-01 15:38:31 -0400 (Tue, 01 Jul 2025) EllapsedTime: 33.7 seconds RetCode: 0 Status: OK