Package: ggspavis Version: 1.15.7 Command: /Library/Frameworks/R.framework/Resources/bin/R CMD build --keep-empty-dirs --no-resave-data ggspavis StartedAt: 2025-07-11 16:26:08 -0400 (Fri, 11 Jul 2025) EndedAt: 2025-07-11 16:26:45 -0400 (Fri, 11 Jul 2025) EllapsedTime: 36.4 seconds RetCode: 0 Status: OK PackageFile: ggspavis_1.15.7.tar.gz PackageFileSize: 7.016 MiB