Package: ggspavis Version: 1.15.7 Command: rm -rf ggspavis.buildbin-libdir && mkdir ggspavis.buildbin-libdir && /Users/biocbuild/BBS/utils/build-universal.sh ggspavis_1.15.7.tar.gz /Library/Frameworks/R.framework/Resources/bin/R ggspavis.buildbin-libdir StartedAt: 2025-07-11 22:21:40 -0400 (Fri, 11 Jul 2025) EndedAt: 2025-07-11 22:21:52 -0400 (Fri, 11 Jul 2025) EllapsedTime: 12.3 seconds RetCode: 0 Status: OK PackageFile: ggspavis_1.15.7.tgz PackageFileSize: 7.073 MiB