Package: ggseqalign Version: 1.3.0 Command: rm -rf ggseqalign.buildbin-libdir && mkdir ggseqalign.buildbin-libdir && F:\biocbuild\bbs-3.22-bioc\R\bin\R.exe CMD INSTALL --build --library=ggseqalign.buildbin-libdir ggseqalign_1.3.0.tar.gz StartedAt: 2025-07-25 09:22:11 -0400 (Fri, 25 Jul 2025) EndedAt: 2025-07-25 09:22:30 -0400 (Fri, 25 Jul 2025) EllapsedTime: 19.3 seconds RetCode: 0 Status: OK PackageFile: ggseqalign_1.3.0.zip PackageFileSize: 509.4 KiB