Package: ggsc Version: 1.7.0 Command: /home/biocbuild/R/R/bin/R CMD INSTALL ggsc StartedAt: 2025-07-10 21:25:26 -0000 (Thu, 10 Jul 2025) EndedAt: 2025-07-10 21:26:46 -0000 (Thu, 10 Jul 2025) EllapsedTime: 79.5 seconds RetCode: 0 Status: OK