Package: ggsc Version: 1.7.0 Command: /home/biocbuild/R/R/bin/R CMD check --install=check:ggsc.install-out.txt --library=/home/biocbuild/R/R/site-library --no-vignettes --timings ggsc_1.7.0.tar.gz StartedAt: 2025-07-15 08:01:19 -0000 (Tue, 15 Jul 2025) EndedAt: 2025-07-15 08:07:34 -0000 (Tue, 15 Jul 2025) EllapsedTime: 375.3 seconds RetCode: 0 Status: OK CheckDir: ggsc.Rcheck Warnings: 0