Package: ggsc Version: 1.7.0 Command: chmod a+r ggsc -R && F:\biocbuild\bbs-3.22-bioc\R\bin\R.exe CMD build --keep-empty-dirs --no-resave-data ggsc StartedAt: 2025-07-24 19:34:18 -0400 (Thu, 24 Jul 2025) EndedAt: 2025-07-24 19:35:45 -0400 (Thu, 24 Jul 2025) EllapsedTime: 87.7 seconds RetCode: 0 Status: OK PackageFile: ggsc_1.7.0.tar.gz PackageFileSize: 81.3 KiB