Package: ggsc Version: 1.7.0 Command: /Library/Frameworks/R.framework/Resources/bin/R CMD INSTALL ggsc StartedAt: 2025-07-20 15:29:10 -0400 (Sun, 20 Jul 2025) EndedAt: 2025-07-20 15:30:19 -0400 (Sun, 20 Jul 2025) EllapsedTime: 69.0 seconds RetCode: 0 Status: OK