Package: ggsc Version: 1.7.0 Command: /Library/Frameworks/R.framework/Resources/bin/R CMD check --install=check:ggsc.install-out.txt --library=/Library/Frameworks/R.framework/Resources/library --no-vignettes --timings ggsc_1.7.0.tar.gz StartedAt: 2025-07-21 21:02:13 -0400 (Mon, 21 Jul 2025) EndedAt: 2025-07-21 21:07:57 -0400 (Mon, 21 Jul 2025) EllapsedTime: 343.7 seconds RetCode: 0 Status: OK CheckDir: ggsc.Rcheck Warnings: 0