Package: ggsc Version: 1.7.0 Command: /Library/Frameworks/R.framework/Resources/bin/R CMD build --keep-empty-dirs --no-resave-data ggsc StartedAt: 2025-07-20 17:07:19 -0400 (Sun, 20 Jul 2025) EndedAt: 2025-07-20 17:08:17 -0400 (Sun, 20 Jul 2025) EllapsedTime: 58.0 seconds RetCode: 0 Status: OK PackageFile: ggsc_1.7.0.tar.gz PackageFileSize: 81.26 KiB