Package: ggmanh Version: 1.13.0 Command: /home/biocbuild/R/R/bin/R CMD check --install=check:ggmanh.install-out.txt --library=/home/biocbuild/R/R/site-library --no-vignettes --timings ggmanh_1.13.0.tar.gz StartedAt: 2025-07-15 08:00:15 -0000 (Tue, 15 Jul 2025) EndedAt: 2025-07-15 08:01:07 -0000 (Tue, 15 Jul 2025) EllapsedTime: 51.0 seconds RetCode: 0 Status: OK CheckDir: ggmanh.Rcheck Warnings: 0