Package: ggmanh Version: 1.13.0 Command: chmod a+r ggmanh -R && F:\biocbuild\bbs-3.22-bioc\R\bin\R.exe CMD build --keep-empty-dirs --no-resave-data ggmanh StartedAt: 2025-06-29 19:21:05 -0400 (Sun, 29 Jun 2025) EndedAt: 2025-06-29 19:24:05 -0400 (Sun, 29 Jun 2025) EllapsedTime: 179.9 seconds RetCode: 0 Status: OK PackageFile: ggmanh_1.13.0.tar.gz PackageFileSize: 3.153 MiB