Package: ggmanh Version: 1.13.0 Command: rm -rf ggmanh.buildbin-libdir && mkdir ggmanh.buildbin-libdir && F:\biocbuild\bbs-3.22-bioc\R\bin\R.exe CMD INSTALL --build --library=ggmanh.buildbin-libdir ggmanh_1.13.0.tar.gz StartedAt: 2025-06-30 08:50:49 -0400 (Mon, 30 Jun 2025) EndedAt: 2025-06-30 08:51:14 -0400 (Mon, 30 Jun 2025) EllapsedTime: 25.1 seconds RetCode: 0 Status: OK PackageFile: ggmanh_1.13.0.zip PackageFileSize: 3.251 MiB