Package: ggmanh Version: 1.13.0 Command: /home/biocbuild/bbs-3.22-bioc/R/bin/R CMD check --install=check:ggmanh.install-out.txt --library=/home/biocbuild/bbs-3.22-bioc/R/site-library --timings ggmanh_1.13.0.tar.gz StartedAt: 2025-06-29 22:41:04 -0400 (Sun, 29 Jun 2025) EndedAt: 2025-06-29 22:42:27 -0400 (Sun, 29 Jun 2025) EllapsedTime: 83.1 seconds RetCode: 0 Status: OK CheckDir: ggmanh.Rcheck Warnings: 0