Package: ggmanh Version: 1.13.0 Command: /Library/Frameworks/R.framework/Resources/bin/R CMD INSTALL ggmanh StartedAt: 2025-07-01 15:40:05 -0400 (Tue, 01 Jul 2025) EndedAt: 2025-07-01 15:40:13 -0400 (Tue, 01 Jul 2025) EllapsedTime: 7.4 seconds RetCode: 0 Status: OK