Package: ggmanh Version: 1.13.0 Command: /Library/Frameworks/R.framework/Resources/bin/R CMD check --install=check:ggmanh.install-out.txt --library=/Library/Frameworks/R.framework/Resources/library --no-vignettes --timings ggmanh_1.13.0.tar.gz StartedAt: 2025-07-01 21:05:22 -0400 (Tue, 01 Jul 2025) EndedAt: 2025-07-01 21:06:18 -0400 (Tue, 01 Jul 2025) EllapsedTime: 56.1 seconds RetCode: 0 Status: OK CheckDir: ggmanh.Rcheck Warnings: 0