Package: ggmanh Version: 1.13.0 Command: rm -rf ggmanh.buildbin-libdir && mkdir ggmanh.buildbin-libdir && /Users/biocbuild/BBS/utils/build-universal.sh ggmanh_1.13.0.tar.gz /Library/Frameworks/R.framework/Resources/bin/R ggmanh.buildbin-libdir StartedAt: 2025-07-02 00:59:25 -0400 (Wed, 02 Jul 2025) EndedAt: 2025-07-02 00:59:35 -0400 (Wed, 02 Jul 2025) EllapsedTime: 9.2 seconds RetCode: 0 Status: OK PackageFile: ggmanh_1.13.0.tgz PackageFileSize: 4.517 MiB