Package: ggmanh Version: 1.13.0 Command: /Library/Frameworks/R.framework/Resources/bin/R CMD INSTALL ggmanh StartedAt: 2025-07-14 15:17:37 -0400 (Mon, 14 Jul 2025) EndedAt: 2025-07-14 15:17:40 -0400 (Mon, 14 Jul 2025) EllapsedTime: 2.8 seconds RetCode: 0 Status: OK