Package: ggmanh Version: 1.13.0 Command: /Library/Frameworks/R.framework/Resources/bin/R CMD build --keep-empty-dirs --no-resave-data ggmanh StartedAt: 2025-07-14 16:26:36 -0400 (Mon, 14 Jul 2025) EndedAt: 2025-07-14 16:26:57 -0400 (Mon, 14 Jul 2025) EllapsedTime: 21.2 seconds RetCode: 0 Status: OK PackageFile: ggmanh_1.13.0.tar.gz PackageFileSize: 4.414 MiB