Package: ggkegg Version: 1.7.0 Command: /home/biocbuild/R/R/bin/R CMD INSTALL ggkegg StartedAt: 2025-07-24 21:09:33 -0000 (Thu, 24 Jul 2025) EndedAt: 2025-07-24 21:10:12 -0000 (Thu, 24 Jul 2025) EllapsedTime: 38.9 seconds RetCode: 0 Status: OK