Package: ggkegg Version: 1.7.0 Command: /home/biocbuild/R/R/bin/R CMD build --keep-empty-dirs --no-resave-data ggkegg StartedAt: 2025-07-25 00:55:06 -0000 (Fri, 25 Jul 2025) EndedAt: 2025-07-25 00:55:51 -0000 (Fri, 25 Jul 2025) EllapsedTime: 45.0 seconds RetCode: 0 Status: OK PackageFile: ggkegg_1.7.0.tar.gz PackageFileSize: 2.666 MiB