Package: ggkegg Version: 1.7.0 Command: F:\biocbuild\bbs-3.22-bioc\R\bin\R.exe CMD INSTALL ggkegg StartedAt: 2025-07-24 15:39:06 -0400 (Thu, 24 Jul 2025) EndedAt: 2025-07-24 15:39:54 -0400 (Thu, 24 Jul 2025) EllapsedTime: 48.0 seconds RetCode: 0 Status: OK