Package: ggkegg Version: 1.7.0 Command: /home/biocbuild/bbs-3.22-bioc/R/bin/R CMD INSTALL ggkegg StartedAt: 2025-07-11 15:08:42 -0400 (Fri, 11 Jul 2025) EndedAt: 2025-07-11 15:09:04 -0400 (Fri, 11 Jul 2025) EllapsedTime: 22.2 seconds RetCode: 0 Status: OK