Package: ggkegg Version: 1.7.0 Command: /home/biocbuild/bbs-3.22-bioc/R/bin/R CMD check --install=check:ggkegg.install-out.txt --library=/home/biocbuild/bbs-3.22-bioc/R/site-library --timings ggkegg_1.7.0.tar.gz StartedAt: 2025-07-13 22:41:38 -0400 (Sun, 13 Jul 2025) EndedAt: 2025-07-13 22:43:48 -0400 (Sun, 13 Jul 2025) EllapsedTime: 130.1 seconds RetCode: 0 Status: OK CheckDir: ggkegg.Rcheck Warnings: 0