Package: ggcyto Version: 1.37.1 Command: rm -rf ggcyto.buildbin-libdir && mkdir ggcyto.buildbin-libdir && /Users/biocbuild/BBS/utils/build-universal.sh ggcyto_1.37.1.tar.gz /Library/Frameworks/R.framework/Resources/bin/R ggcyto.buildbin-libdir StartedAt: 2025-10-07 02:12:27 -0400 (Tue, 07 Oct 2025) EndedAt: 2025-10-07 02:13:03 -0400 (Tue, 07 Oct 2025) EllapsedTime: 35.6 seconds RetCode: 0 Status: OK PackageFile: ggcyto_1.37.1.tgz PackageFileSize: 5.806 MiB