Package: ggcyto Version: 1.37.1 Command: /Library/Frameworks/R.framework/Resources/bin/R CMD INSTALL ggcyto StartedAt: 2025-10-06 15:10:08 -0400 (Mon, 06 Oct 2025) EndedAt: 2025-10-06 15:10:14 -0400 (Mon, 06 Oct 2025) EllapsedTime: 6.3 seconds RetCode: 0 Status: OK