Package: ggcyto Version: 1.37.1 Command: /Library/Frameworks/R.framework/Resources/bin/R CMD check --install=check:ggcyto.install-out.txt --library=/Library/Frameworks/R.framework/Resources/library --no-vignettes --timings ggcyto_1.37.1.tar.gz StartedAt: 2025-10-06 19:45:05 -0400 (Mon, 06 Oct 2025) EndedAt: 2025-10-06 19:46:17 -0400 (Mon, 06 Oct 2025) EllapsedTime: 71.9 seconds RetCode: 0 Status: WARNINGS CheckDir: ggcyto.Rcheck Warnings: 2