Package: ggbio Version: 1.57.1 Command: F:\biocbuild\bbs-3.22-bioc\R\bin\R.exe CMD check --no-multiarch --install=check:ggbio.install-out.txt --library=F:\biocbuild\bbs-3.22-bioc\R\library --no-vignettes --timings ggbio_1.57.1.tar.gz StartedAt: 2025-07-15 02:30:37 -0400 (Tue, 15 Jul 2025) EndedAt: 2025-07-15 02:42:59 -0400 (Tue, 15 Jul 2025) EllapsedTime: 742.4 seconds RetCode: 0 Status: WARNINGS CheckDir: ggbio.Rcheck Warnings: 2