Package: ggbio Version: 1.57.1 Command: chmod a+r ggbio -R && F:\biocbuild\bbs-3.22-bioc\R\bin\R.exe CMD build --keep-empty-dirs --no-resave-data ggbio StartedAt: 2025-07-13 19:24:09 -0400 (Sun, 13 Jul 2025) EndedAt: 2025-07-13 19:31:16 -0400 (Sun, 13 Jul 2025) EllapsedTime: 427.2 seconds RetCode: 0 Status: OK PackageFile: ggbio_1.57.1.tar.gz PackageFileSize: 3.103 MiB