Package: ggbio Version: 1.57.1 Command: /Library/Frameworks/R.framework/Resources/bin/R CMD check --install=check:ggbio.install-out.txt --library=/Library/Frameworks/R.framework/Resources/library --no-vignettes --timings ggbio_1.57.1.tar.gz StartedAt: 2025-07-21 21:01:04 -0400 (Mon, 21 Jul 2025) EndedAt: 2025-07-21 21:12:15 -0400 (Mon, 21 Jul 2025) EllapsedTime: 670.7 seconds RetCode: 0 Status: WARNINGS CheckDir: ggbio.Rcheck Warnings: 2