Package: ggbio Version: 1.57.1 Command: /Library/Frameworks/R.framework/Resources/bin/R CMD INSTALL ggbio StartedAt: 2025-07-15 15:22:00 -0400 (Tue, 15 Jul 2025) EndedAt: 2025-07-15 15:22:24 -0400 (Tue, 15 Jul 2025) EllapsedTime: 23.6 seconds RetCode: 0 Status: OK