Package: gg4way Version: 1.7.1 Command: /home/biocbuild/R/R/bin/R CMD INSTALL gg4way StartedAt: 2025-07-14 20:36:16 -0000 (Mon, 14 Jul 2025) EndedAt: 2025-07-14 20:36:53 -0000 (Mon, 14 Jul 2025) EllapsedTime: 36.6 seconds RetCode: 0 Status: OK