Package: gg4way Version: 1.7.1 Command: /home/biocbuild/R/R/bin/R CMD check --install=check:gg4way.install-out.txt --library=/home/biocbuild/R/R/site-library --no-vignettes --timings gg4way_1.7.1.tar.gz StartedAt: 2025-07-15 07:59:23 -0000 (Tue, 15 Jul 2025) EndedAt: 2025-07-15 08:03:16 -0000 (Tue, 15 Jul 2025) EllapsedTime: 232.2 seconds RetCode: 0 Status: OK CheckDir: gg4way.Rcheck Warnings: 0