Package: gg4way Version: 1.7.0 Command: /Library/Frameworks/R.framework/Resources/bin/R CMD INSTALL gg4way StartedAt: 2025-07-01 15:36:02 -0400 (Tue, 01 Jul 2025) EndedAt: 2025-07-01 15:36:38 -0400 (Tue, 01 Jul 2025) EllapsedTime: 36.4 seconds RetCode: 0 Status: OK