Package: gg4way Version: 1.7.0 Command: /Library/Frameworks/R.framework/Resources/bin/R CMD check --install=check:gg4way.install-out.txt --library=/Library/Frameworks/R.framework/Resources/library --no-vignettes --timings gg4way_1.7.0.tar.gz StartedAt: 2025-07-01 21:04:51 -0400 (Tue, 01 Jul 2025) EndedAt: 2025-07-01 21:08:20 -0400 (Tue, 01 Jul 2025) EllapsedTime: 208.6 seconds RetCode: 0 Status: OK CheckDir: gg4way.Rcheck Warnings: 0