Package: gg4way Version: 1.7.0 Command: rm -rf gg4way.buildbin-libdir && mkdir gg4way.buildbin-libdir && /Users/biocbuild/BBS/utils/build-universal.sh gg4way_1.7.0.tar.gz /Library/Frameworks/R.framework/Resources/bin/R gg4way.buildbin-libdir StartedAt: 2025-07-02 00:59:22 -0400 (Wed, 02 Jul 2025) EndedAt: 2025-07-02 01:00:01 -0400 (Wed, 02 Jul 2025) EllapsedTime: 39.3 seconds RetCode: 0 Status: OK PackageFile: gg4way_1.7.0.tgz PackageFileSize: 2.923 MiB