Package: gg4way Version: 1.7.1 Command: rm -rf gg4way.buildbin-libdir && mkdir gg4way.buildbin-libdir && /Users/biocbuild/BBS/utils/build-universal.sh gg4way_1.7.1.tar.gz /Library/Frameworks/R.framework/Resources/bin/R gg4way.buildbin-libdir StartedAt: 2025-07-11 22:21:34 -0400 (Fri, 11 Jul 2025) EndedAt: 2025-07-11 22:21:46 -0400 (Fri, 11 Jul 2025) EllapsedTime: 12.3 seconds RetCode: 0 Status: OK PackageFile: gg4way_1.7.1.tgz PackageFileSize: 2.956 MiB