Package: geyser Version: 1.1.0 Command: /home/biocbuild/R/R/bin/R CMD check --install=check:geyser.install-out.txt --library=/home/biocbuild/R/R/site-library --no-vignettes --timings geyser_1.1.0.tar.gz StartedAt: 2025-10-03 07:32:52 -0000 (Fri, 03 Oct 2025) EndedAt: 2025-10-03 07:38:37 -0000 (Fri, 03 Oct 2025) EllapsedTime: 344.2 seconds RetCode: 0 Status: OK CheckDir: geyser.Rcheck Warnings: 0