Package: geyser Version: 1.1.0 Command: /home/biocbuild/R/R/bin/R CMD build --keep-empty-dirs --no-resave-data geyser StartedAt: 2025-10-03 00:14:25 -0000 (Fri, 03 Oct 2025) EndedAt: 2025-10-03 00:15:15 -0000 (Fri, 03 Oct 2025) EllapsedTime: 50.0 seconds RetCode: 0 Status: OK PackageFile: geyser_1.1.0.tar.gz PackageFileSize: 2.302 MiB