Package: geyser Version: 1.1.0 Command: F:\biocbuild\bbs-3.22-bioc\R\bin\R.exe CMD check --no-multiarch --install=check:geyser.install-out.txt --library=F:\biocbuild\bbs-3.22-bioc\R\library --no-vignettes --timings geyser_1.1.0.tar.gz StartedAt: 2025-07-01 02:32:27 -0400 (Tue, 01 Jul 2025) EndedAt: 2025-07-01 02:36:08 -0400 (Tue, 01 Jul 2025) EllapsedTime: 220.7 seconds RetCode: 0 Status: OK CheckDir: geyser.Rcheck Warnings: 0