Package: geva Version: 1.17.0 Command: /home/biocbuild/R/R/bin/R CMD INSTALL geva StartedAt: 2025-07-17 20:14:27 -0000 (Thu, 17 Jul 2025) EndedAt: 2025-07-17 20:15:19 -0000 (Thu, 17 Jul 2025) EllapsedTime: 52.2 seconds RetCode: 0 Status: OK