Package: geva Version: 1.17.0 Command: /home/biocbuild/R/R/bin/R CMD build --keep-empty-dirs --no-resave-data geva StartedAt: 2025-07-18 00:04:40 -0000 (Fri, 18 Jul 2025) EndedAt: 2025-07-18 00:07:04 -0000 (Fri, 18 Jul 2025) EllapsedTime: 144.0 seconds RetCode: 1 Status: ERROR PackageFile: None PackageFileSize: NA