Package: geva Version: 1.17.0 Command: F:\biocbuild\bbs-3.22-bioc\R\bin\R.exe CMD check --no-multiarch --install=check:geva.install-out.txt --library=F:\biocbuild\bbs-3.22-bioc\R\library --no-vignettes --timings geva_1.17.0.tar.gz StartedAt: 2025-07-19 02:39:39 -0400 (Sat, 19 Jul 2025) EndedAt: 2025-07-19 02:43:26 -0400 (Sat, 19 Jul 2025) EllapsedTime: 227.1 seconds RetCode: 0 Status: OK CheckDir: geva.Rcheck Warnings: 0